BEGIN:VCALENDAR
VERSION:2.0
PRODID:-//IAM Glasgow South - ECPv6.13.2//NONSGML v1.0//EN
CALSCALE:GREGORIAN
METHOD:PUBLISH
X-ORIGINAL-URL:https://www.iam-gs.org.uk
X-WR-CALDESC:Events for IAM Glasgow South
REFRESH-INTERVAL;VALUE=DURATION:PT1H
X-Robots-Tag:noindex
X-PUBLISHED-TTL:PT1H
BEGIN:VTIMEZONE
TZID:Europe/London
BEGIN:DAYLIGHT
TZOFFSETFROM:+0000
TZOFFSETTO:+0100
TZNAME:BST
DTSTART:20250330T010000
END:DAYLIGHT
BEGIN:STANDARD
TZOFFSETFROM:+0100
TZOFFSETTO:+0000
TZNAME:GMT
DTSTART:20251026T010000
END:STANDARD
END:VTIMEZONE
BEGIN:VEVENT
DTSTART;TZID=Europe/London:20250702T193000
DTEND;TZID=Europe/London:20250702T213000
DTSTAMP:20260422T095410
CREATED:20241228T123528Z
LAST-MODIFIED:20241228T123528Z
UID:595-1751484600-1751491800@www.iam-gs.org.uk
SUMMARY:Treasure Hunt
DESCRIPTION:
URL:https://www.iam-gs.org.uk/event/treasure-hunt-3/
END:VEVENT
BEGIN:VEVENT
DTSTART;TZID=Europe/London:20250618T193000
DTEND;TZID=Europe/London:20250618T213000
DTSTAMP:20260422T095410
CREATED:20241228T123528Z
LAST-MODIFIED:20250601T184608Z
UID:594-1750275000-1750282200@www.iam-gs.org.uk
SUMMARY:Advanced Techniques
DESCRIPTION:
URL:https://www.iam-gs.org.uk/event/tbc-9/
LOCATION:Thorntree Hall\, 35-41 Main Street\, Thornliebank\, G46 7SF
END:VEVENT
BEGIN:VEVENT
DTSTART;TZID=Europe/London:20250604T193000
DTEND;TZID=Europe/London:20250604T213000
DTSTAMP:20260422T095410
CREATED:20241228T123447Z
LAST-MODIFIED:20250601T184246Z
UID:588-1749065400-1749072600@www.iam-gs.org.uk
SUMMARY:No meeting
DESCRIPTION:
URL:https://www.iam-gs.org.uk/event/combined-car-bike-run-3/
END:VEVENT
BEGIN:VEVENT
DTSTART;TZID=Europe/London:20250521T193000
DTEND;TZID=Europe/London:20250521T213000
DTSTAMP:20260422T095410
CREATED:20241228T123446Z
LAST-MODIFIED:20250516T191626Z
UID:587-1747855800-1747863000@www.iam-gs.org.uk
SUMMARY:No meeting
DESCRIPTION:Bike training will take place as previously advertised
URL:https://www.iam-gs.org.uk/event/manoeuvring-competition-3/
END:VEVENT
BEGIN:VEVENT
DTSTART;TZID=Europe/London:20250507T193000
DTEND;TZID=Europe/London:20250507T213000
DTSTAMP:20260422T095410
CREATED:20241228T123446Z
LAST-MODIFIED:20241228T123447Z
UID:586-1746646200-1746653400@www.iam-gs.org.uk
SUMMARY:Introduction to Advanced Driving (Part 2)
DESCRIPTION:
URL:https://www.iam-gs.org.uk/event/introduction-to-advanced-driving-part-2-2/
LOCATION:Thorntree Hall\, 35-41 Main Street\, Thornliebank\, G46 7SF
END:VEVENT
END:VCALENDAR