BEGIN:VCALENDAR
VERSION:2.0
PRODID:-//IAM Glasgow South - ECPv6.13.2//NONSGML v1.0//EN
CALSCALE:GREGORIAN
METHOD:PUBLISH
X-WR-CALNAME:IAM Glasgow South
X-ORIGINAL-URL:https://www.iam-gs.org.uk
X-WR-CALDESC:Events for IAM Glasgow South
REFRESH-INTERVAL;VALUE=DURATION:PT1H
X-Robots-Tag:noindex
X-PUBLISHED-TTL:PT1H
BEGIN:VTIMEZONE
TZID:Europe/London
BEGIN:DAYLIGHT
TZOFFSETFROM:+0000
TZOFFSETTO:+0100
TZNAME:BST
DTSTART:20260329T010000
END:DAYLIGHT
BEGIN:STANDARD
TZOFFSETFROM:+0100
TZOFFSETTO:+0000
TZNAME:GMT
DTSTART:20261025T010000
END:STANDARD
END:VTIMEZONE
BEGIN:VEVENT
DTSTART;TZID=Europe/London:20260506T193000
DTEND;TZID=Europe/London:20260506T213000
DTSTAMP:20260422T095442
CREATED:20260301T192843Z
LAST-MODIFIED:20260301T193015Z
UID:677-1778095800-1778103000@www.iam-gs.org.uk
SUMMARY:Introduction to Advanced Driving (Part 2)
DESCRIPTION:
URL:https://www.iam-gs.org.uk/event/introduction-to-advanced-driving-part-2-4/
LOCATION:Thorntree Hall\, 35-41 Main Street\, Thornliebank\, G46 7SF
END:VEVENT
BEGIN:VEVENT
DTSTART;TZID=Europe/London:20260520T193000
DTEND;TZID=Europe/London:20260520T213000
DTSTAMP:20260422T095442
CREATED:20260301T192949Z
LAST-MODIFIED:20260301T192949Z
UID:679-1779305400-1779312600@www.iam-gs.org.uk
SUMMARY:Manoeuvring Competition
DESCRIPTION:
URL:https://www.iam-gs.org.uk/event/manoeuvring-competition-4/
END:VEVENT
BEGIN:VEVENT
DTSTART;TZID=Europe/London:20260701T190000
DTEND;TZID=Europe/London:20260701T220000
DTSTAMP:20260422T095442
CREATED:20260301T193128Z
LAST-MODIFIED:20260301T193128Z
UID:681-1782932400-1782943200@www.iam-gs.org.uk
SUMMARY:Treasure Hunt
DESCRIPTION:
URL:https://www.iam-gs.org.uk/event/treasure-hunt-4/
END:VEVENT
BEGIN:VEVENT
DTSTART;TZID=Europe/London:20261007T193000
DTEND;TZID=Europe/London:20261007T213000
DTSTAMP:20260422T095442
CREATED:20260301T193232Z
LAST-MODIFIED:20260301T193232Z
UID:685-1791401400-1791408600@www.iam-gs.org.uk
SUMMARY:Sanderson Competition (visit)
DESCRIPTION:
URL:https://www.iam-gs.org.uk/event/sanderson-competition-visit/
END:VEVENT
BEGIN:VEVENT
DTSTART;TZID=Europe/London:20261021T193000
DTEND;TZID=Europe/London:20261021T213000
DTSTAMP:20260422T095442
CREATED:20260301T193308Z
LAST-MODIFIED:20260301T193308Z
UID:687-1792611000-1792618200@www.iam-gs.org.uk
SUMMARY:Annual General Meeting
DESCRIPTION:
URL:https://www.iam-gs.org.uk/event/annual-general-meeting-4/
LOCATION:Thorntree Hall\, 35-41 Main Street\, Thornliebank\, G46 7SF
END:VEVENT
BEGIN:VEVENT
DTSTART;TZID=Europe/London:20261104T193000
DTEND;TZID=Europe/London:20261104T213000
DTSTAMP:20260422T095442
CREATED:20260420T201905Z
LAST-MODIFIED:20260420T201905Z
UID:693-1793820600-1793827800@www.iam-gs.org.uk
SUMMARY:Bike Section
DESCRIPTION:
URL:https://www.iam-gs.org.uk/event/bike-section-7/
LOCATION:Thorntree Hall\, 35-41 Main Street\, Thornliebank\, G46 7SF
END:VEVENT
BEGIN:VEVENT
DTSTART;TZID=Europe/London:20261118T193000
DTEND;TZID=Europe/London:20261118T213000
DTSTAMP:20260422T095442
CREATED:20260301T193159Z
LAST-MODIFIED:20260420T201803Z
UID:683-1795030200-1795037400@www.iam-gs.org.uk
SUMMARY:IAM Examiner
DESCRIPTION:
URL:https://www.iam-gs.org.uk/event/iam-examiner-2/
LOCATION:Thorntree Hall\, 35-41 Main Street\, Thornliebank\, G46 7SF
END:VEVENT
BEGIN:VEVENT
DTSTART;TZID=Europe/London:20261202T193000
DTEND;TZID=Europe/London:20261202T213000
DTSTAMP:20260422T095442
CREATED:20260301T193337Z
LAST-MODIFIED:20260301T193337Z
UID:689-1796239800-1796247000@www.iam-gs.org.uk
SUMMARY:Christmas Social
DESCRIPTION:
URL:https://www.iam-gs.org.uk/event/christmas-social-4/
LOCATION:Thorntree Hall\, 35-41 Main Street\, Thornliebank\, G46 7SF
END:VEVENT
END:VCALENDAR